BEGIN:VCALENDAR
VERSION:2.0
PRODID:-//jEvents 2.0 for Joomla//EN
CALSCALE:GREGORIAN
METHOD:PUBLISH
BEGIN:VTIMEZONE
TZID:Europe/Berlin
BEGIN:STANDARD
DTSTART:20260128T160000
RDATE:20260329T030000
TZOFFSETFROM:+0200
TZOFFSETTO:+0100
TZNAME:Europe/Berlin CET
END:STANDARD
BEGIN:STANDARD
DTSTART:20261025T020000
RDATE:20270328T030000
TZOFFSETFROM:+0200
TZOFFSETTO:+0100
TZNAME:Europe/Berlin CET
END:STANDARD
BEGIN:STANDARD
DTSTART:20271031T020000
RDATE:20280326T030000
TZOFFSETFROM:+0200
TZOFFSETTO:+0100
TZNAME:Europe/Berlin CET
END:STANDARD
BEGIN:STANDARD
DTSTART:20281029T020000
RDATE:20290325T030000
TZOFFSETFROM:+0200
TZOFFSETTO:+0100
TZNAME:Europe/Berlin CET
END:STANDARD
BEGIN:STANDARD
DTSTART:20291028T020000
RDATE:20300331T030000
TZOFFSETFROM:+0200
TZOFFSETTO:+0100
TZNAME:Europe/Berlin CET
END:STANDARD
BEGIN:STANDARD
DTSTART:20301027T020000
RDATE:20310330T030000
TZOFFSETFROM:+0200
TZOFFSETTO:+0100
TZNAME:Europe/Berlin CET
END:STANDARD
BEGIN:STANDARD
DTSTART:20311026T020000
RDATE:20320328T030000
TZOFFSETFROM:+0200
TZOFFSETTO:+0100
TZNAME:Europe/Berlin CET
END:STANDARD
BEGIN:DAYLIGHT
DTSTART:20260329T030000
RDATE:20261025T020000
TZOFFSETFROM:+0100
TZOFFSETTO:+0200
TZNAME:Europe/Berlin CEST
END:DAYLIGHT
BEGIN:DAYLIGHT
DTSTART:20270328T030000
RDATE:20271031T020000
TZOFFSETFROM:+0100
TZOFFSETTO:+0200
TZNAME:Europe/Berlin CEST
END:DAYLIGHT
BEGIN:DAYLIGHT
DTSTART:20280326T030000
RDATE:20281029T020000
TZOFFSETFROM:+0100
TZOFFSETTO:+0200
TZNAME:Europe/Berlin CEST
END:DAYLIGHT
BEGIN:DAYLIGHT
DTSTART:20290325T030000
RDATE:20291028T020000
TZOFFSETFROM:+0100
TZOFFSETTO:+0200
TZNAME:Europe/Berlin CEST
END:DAYLIGHT
BEGIN:DAYLIGHT
DTSTART:20300331T030000
RDATE:20301027T020000
TZOFFSETFROM:+0100
TZOFFSETTO:+0200
TZNAME:Europe/Berlin CEST
END:DAYLIGHT
BEGIN:DAYLIGHT
DTSTART:20310330T030000
RDATE:20311026T020000
TZOFFSETFROM:+0100
TZOFFSETTO:+0200
TZNAME:Europe/Berlin CEST
END:DAYLIGHT
END:VTIMEZONE
BEGIN:VEVENT
UID:ee1e6d309726f0d0a4873ed8c5a02ee3
CATEGORIES:Prüfungen
CREATED:20190302T122621
SUMMARY:Prüfung SRC/UBI, SBF (SeeSchStr/BinSchStr), FKN
LOCATION:ZHS\, Seminarraum S5\, TUM Campus am Olympiapark\, Am Olympiacampus 11\, 80
 809 München
DESCRIPTION:Nach bestandener Prüfung SRC erfolgt die Ergänzungsprüfung für UBI.\n\nEs k
 önnen folgende Theorieprüfungen auch abgelegt werden:\n- Sportbootführersch
 ein mit Geltungsbereich Seeschifffahrtsstraßen\n- Sportbootführerschein mit
  Geltungsbereich Binnenschifffahrtsstraßen unter Maschine\n- Sportbootführe
 rschein mit Geltungsbereich Binnenschifffahrtsstraßen unter Maschine und Se
 gel\n- Fachkundenachweis (Kleiner Pyroschein)\n
X-ALT-DESC;FMTTYPE=text/html:<p>Nach bestandener Prüfung SRC erfolgt die Ergänzungsprüfung für UBI.<br /
 ><br /><span style="text-decoration: underline;">Es können folgende Theorie
 prüfungen auch abgelegt werden:</span><br />- Sportbootführerschein mit Gel
 tungsbereich Seeschifffahrtsstraßen<br />- Sportbootführerschein mit Geltun
 gsbereich Binnenschifffahrtsstraßen unter Maschine<br />- Sportbootführersc
 hein mit Geltungsbereich Binnenschifffahrtsstraßen unter Maschine und Segel
 <br />- Fachkundenachweis (Kleiner Pyroschein)</p>
DTSTAMP:20260423T123251
DTSTART;TZID=Europe/Berlin:20270129T160000
DTEND;TZID=Europe/Berlin:20270129T220000
SEQUENCE:0
TRANSP:OPAQUE
END:VEVENT
END:VCALENDAR