BEGIN:VCALENDAR
VERSION:2.0
PRODID:-//jEvents 2.0 for Joomla//EN
CALSCALE:GREGORIAN
METHOD:PUBLISH
BEGIN:VTIMEZONE
TZID:Europe/Berlin
BEGIN:STANDARD
DTSTART:20251116T180000
RDATE:20260329T030000
TZOFFSETFROM:+0200
TZOFFSETTO:+0100
TZNAME:Europe/Berlin CET
END:STANDARD
BEGIN:STANDARD
DTSTART:20261025T020000
RDATE:20270328T030000
TZOFFSETFROM:+0200
TZOFFSETTO:+0100
TZNAME:Europe/Berlin CET
END:STANDARD
BEGIN:STANDARD
DTSTART:20271031T020000
RDATE:20280326T030000
TZOFFSETFROM:+0200
TZOFFSETTO:+0100
TZNAME:Europe/Berlin CET
END:STANDARD
BEGIN:STANDARD
DTSTART:20281029T020000
RDATE:20290325T030000
TZOFFSETFROM:+0200
TZOFFSETTO:+0100
TZNAME:Europe/Berlin CET
END:STANDARD
BEGIN:STANDARD
DTSTART:20291028T020000
RDATE:20300331T030000
TZOFFSETFROM:+0200
TZOFFSETTO:+0100
TZNAME:Europe/Berlin CET
END:STANDARD
BEGIN:STANDARD
DTSTART:20301027T020000
RDATE:20310330T030000
TZOFFSETFROM:+0200
TZOFFSETTO:+0100
TZNAME:Europe/Berlin CET
END:STANDARD
BEGIN:STANDARD
DTSTART:20311026T020000
RDATE:20320328T030000
TZOFFSETFROM:+0200
TZOFFSETTO:+0100
TZNAME:Europe/Berlin CET
END:STANDARD
BEGIN:DAYLIGHT
DTSTART:20260329T030000
RDATE:20261025T020000
TZOFFSETFROM:+0100
TZOFFSETTO:+0200
TZNAME:Europe/Berlin CEST
END:DAYLIGHT
BEGIN:DAYLIGHT
DTSTART:20270328T030000
RDATE:20271031T020000
TZOFFSETFROM:+0100
TZOFFSETTO:+0200
TZNAME:Europe/Berlin CEST
END:DAYLIGHT
BEGIN:DAYLIGHT
DTSTART:20280326T030000
RDATE:20281029T020000
TZOFFSETFROM:+0100
TZOFFSETTO:+0200
TZNAME:Europe/Berlin CEST
END:DAYLIGHT
BEGIN:DAYLIGHT
DTSTART:20290325T030000
RDATE:20291028T020000
TZOFFSETFROM:+0100
TZOFFSETTO:+0200
TZNAME:Europe/Berlin CEST
END:DAYLIGHT
BEGIN:DAYLIGHT
DTSTART:20300331T030000
RDATE:20301027T020000
TZOFFSETFROM:+0100
TZOFFSETTO:+0200
TZNAME:Europe/Berlin CEST
END:DAYLIGHT
BEGIN:DAYLIGHT
DTSTART:20310330T030000
RDATE:20311026T020000
TZOFFSETFROM:+0100
TZOFFSETTO:+0200
TZNAME:Europe/Berlin CEST
END:DAYLIGHT
END:VTIMEZONE
BEGIN:VEVENT
UID:609d5cc348380439ff6c4cae41467485
CATEGORIES:Infoabende
CREATED:20180803T141213
SUMMARY:Informationsveranstaltung Ausbildung Wassersportlizenzen
LOCATION:KUM\, Hörsaal II\, Hörsaaltrakt\, Marchioninistr. 15\, 81377 München
DESCRIPTION:Informationsveranstaltung für alle Wassersportlizenzen\nSie erhalten einen 
 Überblick über alle möglichen Wassersportlizenzen für Segler und Motorbootf
 ahrer in Deuschland sowie über weitere unbedingt notwendige Lizenzen und Na
 chweise.\nAm Ende der Veranstaltung ist eine Anmeldung zu unseren Kursen mö
 glich.\nAufgrund unserer Kapazitäten wird jeder Interessent in den Kursen b
 erücksichtigt!\nAlle Kurse am KUM sind als Präsenzkurse geplant, können bei
  Bedarf auch als Live-Online-Kurse durchgeführt werden.\n\nEintritt frei.\n
X-ALT-DESC;FMTTYPE=text/html:<p><span style="text-decoration: underline;">Informationsveranstaltung für 
 alle Wassersportlizenzen</span><br />Sie erhalten einen Überblick über alle
  möglichen Wassersportlizenzen für Segler und Motorbootfahrer in Deuschland
  sowie über weitere unbedingt notwendige Lizenzen und Nachweise.<br />Am En
 de der Veranstaltung ist eine Anmeldung zu unseren Kursen möglich.<br />Auf
 grund unserer Kapazitäten wird jeder Interessent in den Kursen berücksichti
 gt!<strong><br />Alle Kurse am KUM sind als Präsenzkurse geplant, können be
 i Bedarf auch als Live-Online-Kurse durchgeführt werden.</strong><br /><br 
 />Eintritt frei.</p>
DTSTAMP:20260423T123155
DTSTART;TZID=Europe/Berlin:20261117T180000
DTEND;TZID=Europe/Berlin:20261117T210000
SEQUENCE:0
TRANSP:OPAQUE
END:VEVENT
END:VCALENDAR