BEGIN:VCALENDAR
VERSION:2.0
PRODID:-//jEvents 2.0 for Joomla//EN
CALSCALE:GREGORIAN
METHOD:PUBLISH
BEGIN:VTIMEZONE
TZID:Europe/Berlin
BEGIN:STANDARD
DTSTART:20260114T170000
RDATE:20260329T030000
TZOFFSETFROM:+0200
TZOFFSETTO:+0100
TZNAME:Europe/Berlin CET
END:STANDARD
BEGIN:STANDARD
DTSTART:20261025T020000
RDATE:20270328T030000
TZOFFSETFROM:+0200
TZOFFSETTO:+0100
TZNAME:Europe/Berlin CET
END:STANDARD
BEGIN:STANDARD
DTSTART:20271031T020000
RDATE:20280326T030000
TZOFFSETFROM:+0200
TZOFFSETTO:+0100
TZNAME:Europe/Berlin CET
END:STANDARD
BEGIN:STANDARD
DTSTART:20281029T020000
RDATE:20290325T030000
TZOFFSETFROM:+0200
TZOFFSETTO:+0100
TZNAME:Europe/Berlin CET
END:STANDARD
BEGIN:STANDARD
DTSTART:20291028T020000
RDATE:20300331T030000
TZOFFSETFROM:+0200
TZOFFSETTO:+0100
TZNAME:Europe/Berlin CET
END:STANDARD
BEGIN:STANDARD
DTSTART:20301027T020000
RDATE:20310330T030000
TZOFFSETFROM:+0200
TZOFFSETTO:+0100
TZNAME:Europe/Berlin CET
END:STANDARD
BEGIN:STANDARD
DTSTART:20311026T020000
RDATE:20320328T030000
TZOFFSETFROM:+0200
TZOFFSETTO:+0100
TZNAME:Europe/Berlin CET
END:STANDARD
BEGIN:DAYLIGHT
DTSTART:20260329T030000
RDATE:20261025T020000
TZOFFSETFROM:+0100
TZOFFSETTO:+0200
TZNAME:Europe/Berlin CEST
END:DAYLIGHT
BEGIN:DAYLIGHT
DTSTART:20270328T030000
RDATE:20271031T020000
TZOFFSETFROM:+0100
TZOFFSETTO:+0200
TZNAME:Europe/Berlin CEST
END:DAYLIGHT
BEGIN:DAYLIGHT
DTSTART:20280326T030000
RDATE:20281029T020000
TZOFFSETFROM:+0100
TZOFFSETTO:+0200
TZNAME:Europe/Berlin CEST
END:DAYLIGHT
BEGIN:DAYLIGHT
DTSTART:20290325T030000
RDATE:20291028T020000
TZOFFSETFROM:+0100
TZOFFSETTO:+0200
TZNAME:Europe/Berlin CEST
END:DAYLIGHT
BEGIN:DAYLIGHT
DTSTART:20300331T030000
RDATE:20301027T020000
TZOFFSETFROM:+0100
TZOFFSETTO:+0200
TZNAME:Europe/Berlin CEST
END:DAYLIGHT
BEGIN:DAYLIGHT
DTSTART:20310330T030000
RDATE:20311026T020000
TZOFFSETFROM:+0100
TZOFFSETTO:+0200
TZNAME:Europe/Berlin CEST
END:DAYLIGHT
END:VTIMEZONE
BEGIN:VEVENT
UID:151bbae0532ff7f0eddc584fe2bfe836
CATEGORIES:Kurse
CREATED:20210717T093428
SUMMARY:SKS Sportküstenschifferschein Theoriekurs
LOCATION:ZHS\, AudiLounge\, TUM Campus am Olympiapark\, Am Olympiacampus 11\, 80809 
 München
DESCRIPTION:Theorieaufbaukurs für den SKS Sportküstenschifferschein\n(Voraussetzung SBF
 -See bzw. Grundkurs SKS und der Ergänzungskurs Segeltheorie)\n\nFreitag 17:
 00 - 21:00 Uhr\nSamstag 09:00 - 18:00 Uhr\nSonntag 09:00 - 17:00 Uhr\n
X-ALT-DESC;FMTTYPE=text/html:<p>Theorieaufbaukurs für den SKS Sportküstenschifferschein<br />(Voraussetz
 ung SBF-See bzw. Grundkurs SKS <span style="text-decoration: underline;">un
 d</span> der Ergänzungskurs Segeltheorie)<br /><br />Freitag 17:00 - 21:00 
 Uhr<br />Samstag 09:00 - 18:00 Uhr<br />Sonntag 09:00 - 17:00 Uhr</p>
DTSTAMP:20260423T133830
DTSTART;TZID=Europe/Berlin:20270115T170000
DTEND;TZID=Europe/Berlin;VALUE=DATE:20270118
SEQUENCE:0
TRANSP:OPAQUE
END:VEVENT
END:VCALENDAR