BEGIN:VCALENDAR
VERSION:2.0
PRODID:-//jEvents 2.0 for Joomla//EN
CALSCALE:GREGORIAN
METHOD:PUBLISH
BEGIN:VTIMEZONE
TZID:Europe/Berlin
BEGIN:STANDARD
DTSTART:20251026T020000
RDATE:20260329T030000
TZOFFSETFROM:+0200
TZOFFSETTO:+0100
TZNAME:Europe/Berlin CET
END:STANDARD
BEGIN:STANDARD
DTSTART:20261025T020000
RDATE:20270328T030000
TZOFFSETFROM:+0200
TZOFFSETTO:+0100
TZNAME:Europe/Berlin CET
END:STANDARD
BEGIN:STANDARD
DTSTART:20271031T020000
RDATE:20280326T030000
TZOFFSETFROM:+0200
TZOFFSETTO:+0100
TZNAME:Europe/Berlin CET
END:STANDARD
BEGIN:STANDARD
DTSTART:20281029T020000
RDATE:20290325T030000
TZOFFSETFROM:+0200
TZOFFSETTO:+0100
TZNAME:Europe/Berlin CET
END:STANDARD
BEGIN:STANDARD
DTSTART:20291028T020000
RDATE:20300331T030000
TZOFFSETFROM:+0200
TZOFFSETTO:+0100
TZNAME:Europe/Berlin CET
END:STANDARD
BEGIN:STANDARD
DTSTART:20301027T020000
RDATE:20310330T030000
TZOFFSETFROM:+0200
TZOFFSETTO:+0100
TZNAME:Europe/Berlin CET
END:STANDARD
BEGIN:STANDARD
DTSTART:20311026T020000
RDATE:20320328T030000
TZOFFSETFROM:+0200
TZOFFSETTO:+0100
TZNAME:Europe/Berlin CET
END:STANDARD
BEGIN:DAYLIGHT
DTSTART:20250501T090000
RDATE:20251026T020000
TZOFFSETFROM:+0100
TZOFFSETTO:+0200
TZNAME:Europe/Berlin CEST
END:DAYLIGHT
BEGIN:DAYLIGHT
DTSTART:20260329T030000
RDATE:20261025T020000
TZOFFSETFROM:+0100
TZOFFSETTO:+0200
TZNAME:Europe/Berlin CEST
END:DAYLIGHT
BEGIN:DAYLIGHT
DTSTART:20270328T030000
RDATE:20271031T020000
TZOFFSETFROM:+0100
TZOFFSETTO:+0200
TZNAME:Europe/Berlin CEST
END:DAYLIGHT
BEGIN:DAYLIGHT
DTSTART:20280326T030000
RDATE:20281029T020000
TZOFFSETFROM:+0100
TZOFFSETTO:+0200
TZNAME:Europe/Berlin CEST
END:DAYLIGHT
BEGIN:DAYLIGHT
DTSTART:20290325T030000
RDATE:20291028T020000
TZOFFSETFROM:+0100
TZOFFSETTO:+0200
TZNAME:Europe/Berlin CEST
END:DAYLIGHT
BEGIN:DAYLIGHT
DTSTART:20300331T030000
RDATE:20301027T020000
TZOFFSETFROM:+0100
TZOFFSETTO:+0200
TZNAME:Europe/Berlin CEST
END:DAYLIGHT
BEGIN:DAYLIGHT
DTSTART:20310330T030000
RDATE:20311026T020000
TZOFFSETFROM:+0100
TZOFFSETTO:+0200
TZNAME:Europe/Berlin CEST
END:DAYLIGHT
END:VTIMEZONE
BEGIN:VEVENT
UID:7160f97c15bf234808f3168eca67f98c
CATEGORIES:Prüfungen
CREATED:20250913T130241
SUMMARY:Prüfung Theorie SBF (SeeSchStr/BinSchStr), FKN, SKS, SRC/UBI
LOCATION:Meetinn Konferenzzentrum\, Trimburgstr. 2\, 81249 München\, Neu-Aubing
DESCRIPTION:09:00 Uhr\nTheorieprüfung für Sportbootführerschein mit Geltungsbereich \n+
  SeeSchifffahrtsstraßen und \n+ Binnenschifffahrtsstraßen unter Motor / unt
 er Segel bzw. unter Motor und Segel\n09:30 Uhr\nPrüfung Fachkundenachweis\n
 10.00 Uhr\n- Theorieprüfung SKS (Sportküstenschifferschein)\n10.30 Uhr\n- S
 RC / UBI Funkbetriebszeugnisse\n
X-ALT-DESC;FMTTYPE=text/html:<p><strong><span style="text-decoration: underline;">09:00 Uhr</span></stro
 ng><br />Theorieprüfung für Sportbootführerschein mit Geltungsbereich <br /
 >+ SeeSchifffahrtsstraßen und <br />+ Binnenschifffahrtsstraßen unter Motor
  / unter Segel bzw. unter Motor und Segel<br /><span style="text-decoration
 : underline;"><strong>09:30 Uhr</strong></span><br />Prüfung Fachkundenachw
 eis<br /><span style="text-decoration: underline;"><strong><span style="col
 or: #000000; text-decoration: underline;">10.00 Uhr</span></strong></span><
 br />- Theorieprüfung SKS (Sportküstenschifferschein)<br /><strong><span st
 yle="color: #000000; text-decoration: underline;">10.30 Uhr</span></strong>
 <span style="text-decoration: underline;"></span><br />- SRC / UBI Funkbetr
 iebszeugnisse</p>
DTSTAMP:20260423T123305
DTSTART;TZID=Europe/Berlin:20260502T090000
SEQUENCE:0
TRANSP:OPAQUE
END:VEVENT
END:VCALENDAR